BEGIN:VCALENDAR
VERSION:2.0
PRODID:-//wp-events-plugin.com//7.2.3.1//EN
BEGIN:VEVENT
UID:262@reseau-lepc.fr
DTSTART:20240613T080000Z
DTEND:20240613T090000Z
DTSTAMP:20240603T101220Z
URL:https://www.reseau-lepc.fr/events/webinaire-work-wirh-refugees-distanc
 iel/
SUMMARY:Webinaire : Work With Refugees • Distanciel
DESCRIPTION:En partenariat avec La France s’engage\, Accor\, le collectif
  Work With Refugees et la Charte de L'Inclusion\, Weavers organise une mat
 inée d’échanges autour de l’insertion économique des personnes exil
 ées en entreprise.
ATTACH;FMTTYPE=image/jpeg:https://www.reseau-lepc.fr/wp-content/uploads/20
 23/07/Refugies-1.jpeg
CATEGORIES:Événements entre pairs
LOCATION:En ligne - National\, Rendez-vous\, En ligne\, En ligne - National
 \, France
X-APPLE-STRUCTURED-LOCATION;VALUE=URI;X-ADDRESS=Rendez-vous\, En ligne\, En
  ligne - National\, France;X-APPLE-RADIUS=100;X-TITLE=En ligne - National:
 geo:0,0
END:VEVENT
END:VCALENDAR