BEGIN:VCALENDAR
VERSION:2.0
PRODID:-//wp-events-plugin.com//7.2.3.1//EN
BEGIN:VEVENT
UID:103@reseau-lepc.fr
DTSTART:20231115T080000Z
DTEND:20231115T100000Z
DTSTAMP:20231018T152057Z
URL:https://www.reseau-lepc.fr/events/restitution-de-lenquete-sur-la-mixit
 e-des-metiers-presentiel/
SUMMARY:Restitution de l'enquête sur la Mixité des Métiers • Présenti
 el
DESCRIPTION:Cette restitution a pour objectif de pouvoir présenter des ind
 icateurs visant à mieux mesurer les enjeux de la mixité\, identifier les
  bonnes pratiques des entreprises et d'apporter des éléments pour favori
 ser l'égalité femmes-hommes. 
ATTACH;FMTTYPE=image/jpeg:https://www.reseau-lepc.fr/wp-content/uploads/20
 23/07/miniature-enquete-mixite-metiers.png
CATEGORIES:Événements entre pairs
LOCATION:Pessac\, Cap Métiers Nouvelle-Aquitaine - Site de Pessac\, Pessac
 \, 33600\, Nouvelle-Aquitaine\, France
X-APPLE-STRUCTURED-LOCATION;VALUE=URI;X-ADDRESS=Cap Métiers Nouvelle-Aquit
 aine - Site de Pessac\, Pessac\, 33600\, Nouvelle-Aquitaine\, France;X-APP
 LE-RADIUS=100;X-TITLE=Pessac:geo:0,0
END:VEVENT
END:VCALENDAR