BEGIN:VCALENDAR
VERSION:2.0
PRODID:-//wp-events-plugin.com//7.2.3.1//EN
BEGIN:VEVENT
UID:137@reseau-lepc.fr
DTSTART:20240118T070000Z
DTEND:20240118T100000Z
DTSTAMP:20240104T092247Z
URL:https://www.reseau-lepc.fr/events/recruter-des-personnes-en-insertion-
 mode-demploi-rencontres-autour-de-cas-pratiques-presentiel/
SUMMARY:Recruter des personnes en insertion : mode d'emploi ! Rencontres au
 tour de cas pratiques • Présentiel
DESCRIPTION:Dans la poursuite de l'initiative "Recruter autrement : la pist
 e de l'Insertion par l'Activité Economique" co-créée en 2021 par la Fé
 dération des Acteurs de la Solidarité et Les entreprises pour la Cité G
 rand-Est\, nous vous proposons de nous retrouver pour une matinée autour 
 de cas concrets.
ATTACH;FMTTYPE=image/jpeg:https://www.reseau-lepc.fr/wp-content/uploads/20
 23/09/miniature-article-forum.png
CATEGORIES:Événements entre pairs
LOCATION:Bischheim\, EMMAUS\, 14 rue de l’Atome\, Bischheim\, 67800\, Gra
 nd-Est\, France
X-APPLE-STRUCTURED-LOCATION;VALUE=URI;X-ADDRESS=EMMAUS\, 14 rue de l’Atom
 e\, Bischheim\, 67800\, Grand-Est\, France;X-APPLE-RADIUS=100;X-TITLE=Bisc
 hheim:geo:0,0
END:VEVENT
END:VCALENDAR