BEGIN:VCALENDAR
VERSION:2.0
PRODID:-//wp-events-plugin.com//7.2.3.1//EN
BEGIN:VEVENT
UID:423@reseau-lepc.fr
DTSTART:20250521T063000Z
DTEND:20250521T090000Z
DTSTAMP:20250505T112704Z
URL:https://www.reseau-lepc.fr/events/matinee-linclusion-un-atout-pour-vos
 -recrutements-presentiel-lormont-33/
SUMMARY:Matinée "L’inclusion un atout pour vos recrutements" • Présen
 tiel / Lormont (33)
DESCRIPTION:Les entreprises pour la Cité\, en partenariat avec France Trav
 ail et le MEDEF Gironde\, ont le plaisir de vous convier à leur prochaine
  matinée d'information "Inclusion : un atout pour vos recrutements !".
ATTACH;FMTTYPE=image/jpeg:https://www.reseau-lepc.fr/wp-content/uploads/20
 24/08/MINIATURE-EVENT-strategie-inclusino.png
CATEGORIES:Événements entre pairs
LOCATION:Lormont\, France Travail - 4 Rue Romain Rolland\, Lormont\, Nouvel
 le-Aquitaine\, France
X-APPLE-STRUCTURED-LOCATION;VALUE=URI;X-ADDRESS=France Travail - 4 Rue Roma
 in Rolland\, Lormont\, Nouvelle-Aquitaine\, France;X-APPLE-RADIUS=100;X-TI
 TLE=Lormont:geo:0,0
END:VEVENT
END:VCALENDAR