BEGIN:VCALENDAR
VERSION:2.0
PRODID:-//wp-events-plugin.com//7.2.3.1//EN
BEGIN:VEVENT
UID:553@reseau-lepc.fr
DTSTART:20260605T070000Z
DTEND:20260605T103000Z
DTSTAMP:20260224T143618Z
URL:https://www.reseau-lepc.fr/events/forum-de-decouverte-des-metiers-mon-
 stage-mon-avenir-presentiel-marseille/
SUMMARY:forum de découverte des métiers : « Mon stage\, mon avenir » 
 • Présentiel / Marseille
DESCRIPTION:Rencontrez des élèves de 4ème issus de collèges REP+ lors d
 'un forum de découverte des métiers et de recherche de stage pour leur a
 nnée de 3ème ! 
ATTACH;FMTTYPE=image/jpeg:https://www.reseau-lepc.fr/wp-content/uploads/20
 25/01/innov-coach.png
CATEGORIES:Actions de mobilisation de collaborateurs
LOCATION:Marseille\, Village La Poste\, 1 place hôtel des Postes\, Marseil
 le\, 13001\, PACA\, France
X-APPLE-STRUCTURED-LOCATION;VALUE=URI;X-ADDRESS=Village La Poste\, 1 place 
 hôtel des Postes\, Marseille\, 13001\, PACA\, France;X-APPLE-RADIUS=100;X
 -TITLE=Marseille:geo:0,0
END:VEVENT
END:VCALENDAR