BEGIN:VCALENDAR
VERSION:2.0
PRODID:-//wp-events-plugin.com//7.2.3.1//EN
BEGIN:VEVENT
UID:350@reseau-lepc.fr
DTSTART:20250327T070000Z
DTEND:20250327T083000Z
DTSTAMP:20250117T151746Z
URL:https://www.reseau-lepc.fr/events/conferencee-la-confiance-en-philanth
 ropie-moteur-des-collaborations-reussies-entre-entreprises-et-associations
 -distanciel-national/
SUMMARY:Masterclass - La confiance en philanthropie : moteur des collaborat
 ions réussies entre entreprises et associations ? • Distanciel / Nation
 al
DESCRIPTION:La confiance est un élément clé en philanthropie pour constr
 uire les projets et pérenniser la relation. Elle soutient les partenariat
 s durables\, encourage l'innovation\, et renforce les capacités locales\,
  ce qui est essentiel pour s'attaquer aux racines des problèmes. Sans cet
 te confiance\, les initiatives risquent de rester superficielles et de pas
 ser à côté de transformation réelles et profondes des systèmes dysfon
 ctionnels en place. 
ATTACH;FMTTYPE=image/jpeg:https://www.reseau-lepc.fr/wp-content/uploads/20
 25/01/miniature-event.png
CATEGORIES:Événements entre pairs
LOCATION:En ligne - National\, Rendez-vous\, En ligne\, En ligne - National
 \, France
X-APPLE-STRUCTURED-LOCATION;VALUE=URI;X-ADDRESS=Rendez-vous\, En ligne\, En
  ligne - National\, France;X-APPLE-RADIUS=100;X-TITLE=En ligne - National:
 geo:0,0
END:VEVENT
END:VCALENDAR