BEGIN:VCALENDAR
VERSION:2.0
PRODID:-//wp-events-plugin.com//7.2.3.1//EN
BEGIN:VEVENT
UID:268@reseau-lepc.fr
DTSTART:20241119T153000Z
DTEND:20241119T190000Z
DTSTAMP:20240819T114743Z
URL:https://www.reseau-lepc.fr/events/celebration-des-20-ans-de-la-charte-
 de-la-diversite-presentiel-nice/
SUMMARY:Célébration des 20 ans de la Charte de la Diversité • Présent
 iel / Strasbourg
DESCRIPTION:Pour célébrer l'anniversaire de la Charte de la diversité et
  les avancées des organisations signataires\, le réseau Les entreprises 
 pour la Cité\, en charge de l’animation de la Charte\, vous invite à p
 articiper à des événements exceptionnels partout en France !
ATTACH;FMTTYPE=image/jpeg:https://www.reseau-lepc.fr/wp-content/uploads/20
 24/02/miniature-event-charte.png
CATEGORIES:Événements entre pairs
LOCATION:Strasbourg\, Les Petites Cantines Strasbourg\, 5 Rue Kuhn\, Strasb
 ourg\, 67000\, Grand-Est\, France
X-APPLE-STRUCTURED-LOCATION;VALUE=URI;X-ADDRESS=Les Petites Cantines Strasb
 ourg\, 5 Rue Kuhn\, Strasbourg\, 67000\, Grand-Est\, France;X-APPLE-RADIUS
 =100;X-TITLE=Strasbourg:geo:0,0
END:VEVENT
END:VCALENDAR