BEGIN:VCALENDAR
VERSION:2.0
PRODID:-//wp-events-plugin.com//7.2.3.1//EN
BEGIN:VEVENT
UID:286@reseau-lepc.fr
DTSTART:20240906T110000Z
DTEND:20240906T123000Z
DTSTAMP:20240719T152406Z
URL:https://www.reseau-lepc.fr/events/cafe-de-rentree-paca-presentiel-mars
 eille/
SUMMARY:Café de rentrée PACA • Présentiel / Marseille
DESCRIPTION:Rendez-vous de rentrée pour connaître les actualités du rés
 eau\, les évènements ainsi que les programmes d'engagement - sur la thé
 matique de la mobilisation des collaborateurs !
ATTACH;FMTTYPE=image/jpeg:https://www.reseau-lepc.fr/wp-content/uploads/20
 24/01/cafe-miniature.png
CATEGORIES:Événements entre pairs
LOCATION:Marseille\, CVE\, 5 Pl. de la Joliette\, Marseille\, 13002\, PACA\
 , France
X-APPLE-STRUCTURED-LOCATION;VALUE=URI;X-ADDRESS=CVE\, 5 Pl. de la Joliette\
 , Marseille\, 13002\, PACA\, France;X-APPLE-RADIUS=100;X-TITLE=Marseille:g
 eo:0,0
END:VEVENT
END:VCALENDAR