BEGIN:VCALENDAR
VERSION:2.0
PRODID:-//wp-events-plugin.com//7.2.3.1//EN
BEGIN:VEVENT
UID:320@reseau-lepc.fr
DTSTART:20260122T070000Z
DTEND:20260122T083000Z
DTSTAMP:20251210T155946Z
URL:https://www.reseau-lepc.fr/events/cafe-de-rentree-nouvelle-aquitaine-p
 resentiel-bordeaux/
SUMMARY:Café de rentrée Nice PACA • Présentiel / Nice
DESCRIPTION:Traditionnel café de rentrée dans l'agence de Adecco à Nice.
  L'occasion de se réunir\, d'échanger entre pairs\, et de présenter la 
 programmation 2026. 
ATTACH;FMTTYPE=image/jpeg:https://www.reseau-lepc.fr/wp-content/uploads/20
 24/01/cafe-miniature.png
CATEGORIES:Événements entre pairs
LOCATION:Nice\, 1 avenue Simone Veil\, Nice\, PACA\, France
X-APPLE-STRUCTURED-LOCATION;VALUE=URI;X-ADDRESS=1 avenue Simone Veil\, Nice
 \, PACA\, France;X-APPLE-RADIUS=100;X-TITLE=Nice:geo:0,0
END:VEVENT
END:VCALENDAR