BEGIN:VCALENDAR
VERSION:2.0
PRODID:-//wp-events-plugin.com//7.2.3.1//EN
BEGIN:VEVENT
UID:482@reseau-lepc.fr
DTSTART:20250926T070000Z
DTEND:20250926T090000Z
DTSTAMP:20250903T085735Z
URL:https://www.reseau-lepc.fr/events/cafe-de-rentree-grand-est-presentiel
 -strasbourg/
SUMMARY:Café de rentrée Grand-Est • Présentiel / Strasbourg
DESCRIPTION:Retrouvons nous pour partager nos actualités + les actus de la
  rentrée LepC\nAu programme :\n☕Café d'accueil\n🎒 Présentation des
  actus Diversité et Inclusion + actus de l'association\n🚀 Présentatio
 n des actions de mobilisation à venir pour la fin d'année 2025
ATTACH;FMTTYPE=image/jpeg:https://www.reseau-lepc.fr/wp-content/uploads/20
 24/01/cafe-miniature.png
CATEGORIES:Événements entre pairs
LOCATION:Strasbourg\, Village La Poste\, 7 rue de la Fonderie\, Strasbourg\
 , 67000\, Grand-Est\, France
X-APPLE-STRUCTURED-LOCATION;VALUE=URI;X-ADDRESS=Village La Poste\, 7 rue de
  la Fonderie\, Strasbourg\, 67000\, Grand-Est\, France;X-APPLE-RADIUS=100;
 X-TITLE=Strasbourg:geo:0,0
END:VEVENT
END:VCALENDAR