BEGIN:VCALENDAR
VERSION:2.0
PRODID:-//wp-events-plugin.com//7.2.3.1//EN
BEGIN:VEVENT
UID:427@reseau-lepc.fr
DTSTART:20250515T070000Z
DTEND:20250515T100000Z
DTSTAMP:20250505T112050Z
URL:https://www.reseau-lepc.fr/events/atelier-sur-les-biais-et-stereotypes
 -de-genre-festival-uniques-auvergne-rhone-alpes-presentiel-lyon/
SUMMARY:Atelier sur les biais et stéréotypes de genre - Festival UNIQUES 
 Auvergne-Rhône-Alpes • Présentiel / Lyon
DESCRIPTION:Trop longtemps cantonnée aux discours et aux conférences\, l
 ’égalité des chances trouve enfin son grand rassemblement avec UNIQUES
 \, co-édité par Diversidays et France Travail\, le premier festival nati
 onal qui fait de l’inclusion une fête populaire et accessible à toutes
  et tous.
ATTACH;FMTTYPE=image/jpeg:https://www.reseau-lepc.fr/wp-content/uploads/20
 23/06/miniature-coaching-emploi.jpeg
CATEGORIES:Événements entre pairs
LOCATION:Lyon\, Lyon\, Lyon\, France
X-APPLE-STRUCTURED-LOCATION;VALUE=URI;X-ADDRESS=Lyon\, Lyon\, France;X-APPL
 E-RADIUS=100;X-TITLE=Lyon:geo:0,0
END:VEVENT
END:VCALENDAR